BEGIN:VCALENDAR
VERSION:2.0
PRODID:-//Tukios.com/
BEGIN:VEVENT
UID:89b60c5d-d8e9-41e8-bf7d-c5344f5e78f3@www.powellfuneralinc.com
DTSTAMP:20260420T202135Z
DTSTART:20260422T170000Z
DTEND:20260422T180000Z
SUMMARY:Visitation
DESCRIPTION:
URL:https://www.powellfuneralinc.com/obituaries/mario-mills
LOCATION:Powell Funeral Home Chapel 1603 Wilborn Avenue  South Boston VA 
	24592
GEO:36.7067843;-78.9096282
END:VEVENT
END:VCALENDAR