BEGIN:VCALENDAR
VERSION:2.0
PRODID:-//Tukios.com/
BEGIN:VEVENT
UID:889e9d5f-34d2-4317-bda6-11bde2bb4a97@www.powellfuneralinc.com
DTSTAMP:20260420T201554Z
DTSTART:20260422T180000Z
DTEND:20260422T190000Z
SUMMARY:Funeral Service
DESCRIPTION:
URL:https://www.powellfuneralinc.com/obituaries/mario-mills
LOCATION:Powell Funeral Home Chapel 1603 Wilborn Avenue  South Boston VA 
	24592
GEO:36.7067843;-78.9096282
END:VEVENT
END:VCALENDAR