BEGIN:VCALENDAR
VERSION:2.0
PRODID:-//Tukios.com/
BEGIN:VEVENT
UID:095a0383-f0ee-48cb-a22f-c953dee40858@www.powellfuneralinc.com
DTSTAMP:20260421T191928Z
DTSTART:20260426T170000Z
DTEND:20260426T180000Z
SUMMARY:Memorial Service
DESCRIPTION:
URL:https://www.powellfuneralinc.com/obituaries/rickey-lacks
LOCATION:Living Waters Church of God 3059 Clover Road  Clover VA 24534
GEO:36.8467839;-78.7233313
END:VEVENT
END:VCALENDAR